BEGIN:VCALENDAR
VERSION:2.0
PRODID:-//Norbec - ECPv6.11.2//NONSGML v1.0//EN
CALSCALE:GREGORIAN
METHOD:PUBLISH
X-WR-CALNAME:Norbec
X-ORIGINAL-URL:https://norbec.com/fr/
X-WR-CALDESC:Évènements pour Norbec
REFRESH-INTERVAL;VALUE=DURATION:PT1H
X-Robots-Tag:noindex
X-PUBLISHED-TTL:PT1H
BEGIN:VTIMEZONE
TZID:America/Toronto
BEGIN:DAYLIGHT
TZOFFSETFROM:-0500
TZOFFSETTO:-0400
TZNAME:EDT
DTSTART:20230312T070000
END:DAYLIGHT
BEGIN:STANDARD
TZOFFSETFROM:-0400
TZOFFSETTO:-0500
TZNAME:EST
DTSTART:20231105T060000
END:STANDARD
END:VTIMEZONE
BEGIN:VEVENT
DTSTART;TZID=America/Toronto:20230616T070000
DTEND;TZID=America/Toronto:20230616T170000
DTSTAMP:20260419T184123
CREATED:20230531T180052Z
LAST-MODIFIED:20230531T191121Z
UID:20728-1686898800-1686934800@norbec.com
SUMMARY:Facades+ Toronto
DESCRIPTION:
URL:https://norbec.com/fr/event/facades-plus-toronto/
LOCATION:Mississoga
ATTACH;FMTTYPE=image/png:https://norbec.com/wp-content/uploads/2023/05/Capture-decran-2023-05-25-145030.png
ORGANIZER;CN="Norbec":MAILTO:info@norbec.com
END:VEVENT
END:VCALENDAR